BEGIN:VCALENDAR
VERSION:2.0
PRODID:-//ChamberMaster//Event Calendar 2.0//EN
METHOD:PUBLISH
X-PUBLISHED-TTL:P1H
REFRESH-INTERVAL:P1H
CALSCALE:GREGORIAN
BEGIN:VTIMEZONE
TZID:America/New_York
BEGIN:DAYLIGHT
RRULE:FREQ=YEARLY;BYMONTH=3;BYDAY=2SU
DTSTART:20070101T000000
TZOFFSETFROM:-0500
TZOFFSETTO:-0400
TZNAME:Eastern Daylight Time
END:DAYLIGHT
BEGIN:STANDARD
RRULE:FREQ=YEARLY;BYMONTH=11;BYDAY=1SU
DTSTART:20070101T000000
TZOFFSETFROM:-0400
TZOFFSETTO:-0500
TZNAME:Eastern Standard Time
END:STANDARD
END:VTIMEZONE
BEGIN:VEVENT
DTSTART;TZID=America/New_York:20260519T130000
DTEND;TZID=America/New_York:20260519T140000
X-MICROSOFT-CDO-ALLDAYEVENT:FALSE
SUMMARY:SBAIC New Member Orientation
DESCRIPTION:Bi-monthly orientation for new SBAIC members. Participants will get an overview of SBAIC from the Membership Committee\, learn how to get involved with the organization\, and have the opportunity to network with other new members.
X-ALT-DESC;FMTTYPE=text/html:Bi-monthly orientation for new SBAIC members. Participants will get an overview of SBAIC from the Membership Committee\, learn how to get involved with the organization\, and have the opportunity to network with other new members.
LOCATION:
UID:e.570.1447294
SEQUENCE:3
DTSTAMP:20260423T012608Z
URL:https://members.sbaic.org/events/Details/sbaic-new-member-orientation-1714192?sourceTypeId=Hub
END:VEVENT
END:VCALENDAR
