BEGIN:VCALENDAR
VERSION:2.0
PRODID:-//ChamberMaster//Event Calendar 2.0//EN
METHOD:PUBLISH
X-PUBLISHED-TTL:P1H
REFRESH-INTERVAL:P1H
CALSCALE:GREGORIAN
BEGIN:VTIMEZONE
TZID:America/New_York
BEGIN:DAYLIGHT
RRULE:FREQ=YEARLY;BYMONTH=3;BYDAY=2SU
DTSTART:20070101T000000
TZOFFSETFROM:-0500
TZOFFSETTO:-0400
TZNAME:Eastern Daylight Time
END:DAYLIGHT
BEGIN:STANDARD
RRULE:FREQ=YEARLY;BYMONTH=11;BYDAY=1SU
DTSTART:20070101T000000
TZOFFSETFROM:-0400
TZOFFSETTO:-0500
TZNAME:Eastern Standard Time
END:STANDARD
END:VTIMEZONE
BEGIN:VEVENT
DTSTART;TZID=America/New_York:20260505T100000
DTEND;TZID=America/New_York:20260505T120000
X-MICROSOFT-CDO-ALLDAYEVENT:FALSE
SUMMARY:SBAIC Monthly Membership Meeting
DESCRIPTION:Join us for our monthly Member Meetings on the first Tuesday of every month from 10am-12pm! The first hour features a guest speaker who will share insights on their work\, as well as discuss current industry trends related to federal contracting and small business engagement. The second hour of the meeting is dedicated to SBAIC business and committee updates.
X-ALT-DESC;FMTTYPE=text/html:<!DOCTYPE html><html><head><title></title></head><body aria-disabled="false"><p>Join us for our monthly Member Meetings on the first Tuesday of every month from 10am-12pm! The first hour features a guest speaker who will share insights on their work\, as well as discuss current industry trends related to federal contracting and small business engagement. The second hour of the meeting is dedicated to SBAIC business and committee updates.</p></body></html>
LOCATION:
UID:e.570.1447307
SEQUENCE:3
DTSTAMP:20260423T011818Z
URL:https://members.sbaic.org/events/Details/sbaic-monthly-membership-meeting-1714241?sourceTypeId=Hub
END:VEVENT
END:VCALENDAR
